BEGIN:VCALENDAR
VERSION:2.0
PRODID:-//ICORPA - ECPv6.15.20//NONSGML v1.0//EN
CALSCALE:GREGORIAN
METHOD:PUBLISH
X-ORIGINAL-URL:https://icorpa.org
X-WR-CALDESC:Events for ICORPA
REFRESH-INTERVAL;VALUE=DURATION:PT1H
X-Robots-Tag:noindex
X-PUBLISHED-TTL:PT1H
BEGIN:VTIMEZONE
TZID:America/Chicago
BEGIN:DAYLIGHT
TZOFFSETFROM:-0600
TZOFFSETTO:-0500
TZNAME:CDT
DTSTART:20230312T080000
END:DAYLIGHT
BEGIN:STANDARD
TZOFFSETFROM:-0500
TZOFFSETTO:-0600
TZNAME:CST
DTSTART:20231105T070000
END:STANDARD
BEGIN:DAYLIGHT
TZOFFSETFROM:-0600
TZOFFSETTO:-0500
TZNAME:CDT
DTSTART:20240310T080000
END:DAYLIGHT
BEGIN:STANDARD
TZOFFSETFROM:-0500
TZOFFSETTO:-0600
TZNAME:CST
DTSTART:20241103T070000
END:STANDARD
BEGIN:DAYLIGHT
TZOFFSETFROM:-0600
TZOFFSETTO:-0500
TZNAME:CDT
DTSTART:20250309T080000
END:DAYLIGHT
BEGIN:STANDARD
TZOFFSETFROM:-0500
TZOFFSETTO:-0600
TZNAME:CST
DTSTART:20251102T070000
END:STANDARD
END:VTIMEZONE
BEGIN:VEVENT
DTSTART;TZID=America/Chicago:20240404T193000
DTEND;TZID=America/Chicago:20240404T204900
DTSTAMP:20260423T162043
CREATED:20240404T214700Z
LAST-MODIFIED:20240404T214700Z
UID:4351-1712259000-1712263740@icorpa.org
SUMMARY:ICORPA Men's Quranic Study\, hosted by Elsayed Ashour
DESCRIPTION:[vc_row][vc_column][vc_column_text]Join us in person at the ICORPA Mosque EVERY FRIDAY between MAGHRIB and ISHA prayer for our Men’s study of the Quran & Arabic\, hosted by Elsayed Ashour.\nWe hope to see you there![/vc_column_text][/vc_column][/vc_row]
URL:https://icorpa.org/event/icorpa-mens-quranic-study-hosted-by-elsayed-ashour/
ATTACH;FMTTYPE=image/jpeg:https://icorpa.org/wp-content/uploads/2024/04/icorpa-quranfriday.jpg
END:VEVENT
BEGIN:VEVENT
DTSTART;TZID=America/Chicago:20240405T130000
DTEND;TZID=America/Chicago:20240405T140000
DTSTAMP:20260423T162043
CREATED:20240404T215435Z
LAST-MODIFIED:20240404T215435Z
UID:4359-1712322000-1712325600@icorpa.org
SUMMARY:Jumu’ah Khutbah: Friday 1:00 PM - All Year
DESCRIPTION:[vc_row][vc_column][vc_column_text]Join us every Friday at 1:00 PM EST in person or live on our Facebook page.\nSpeaker this week: Imam Elsayed Ashour​\nwww.facebook.com/icorpa.pa \nFacebook Live[/vc_column_text][/vc_column][/vc_row]
URL:https://icorpa.org/event/jumuah-khutbah-friday-100-pm-all-year/
END:VEVENT
BEGIN:VEVENT
DTSTART;TZID=America/Chicago:20240408T110000
DTEND;TZID=America/Chicago:20240408T120000
DTSTAMP:20260423T162043
CREATED:20240404T215049Z
LAST-MODIFIED:20240404T215049Z
UID:4355-1712574000-1712577600@icorpa.org
SUMMARY:Step by Step: Islam Essentials Course for New Muslims
DESCRIPTION:[vc_row][vc_column][vc_column_text]Please join us for our bi-annual Step by Step: Islam Essentials Course for New Muslims\, returning January 14th\, 2023! The course content will take place on Saturday 9am PST | 11am CST | 12 pm EST and will last about 1-2 hours. Whether you recently took your Shahada or you are a seasoned revert to Islam – ALL are welcome to participate and learn for the sake of Allah (SWT)\, Tuition FREE! \nClick here to Register!\n​\nStep by Step: Islam Essentials Course for New Muslims\nInstructors: Br Daniel Rebholz and Sr Jacquelyn Crutchley\nJoin us here: 👇🏽 https://us02web.zoom.us/j/84908459816​\nWhen: Every Saturday\nTime: 11:00 am CST | 12:00 pm EST \nLast Class Ending: Apr 8th\, 2023.[/vc_column_text][/vc_column][/vc_row]
URL:https://icorpa.org/event/step-by-step-islam-essentials-course-for-new-muslims/
ATTACH;FMTTYPE=image/jpeg:https://icorpa.org/wp-content/uploads/2024/04/0-stepbystep.jpg
END:VEVENT
BEGIN:VEVENT
DTSTART;TZID=America/Chicago:20240404T193000
DTEND;TZID=America/Chicago:20240404T204900
DTSTAMP:20260423T162043
CREATED:20240404T214700Z
LAST-MODIFIED:20240404T214700Z
UID:4351-1712259000-1712263740@icorpa.org
SUMMARY:ICORPA Men's Quranic Study\, hosted by Elsayed Ashour
DESCRIPTION:[vc_row][vc_column][vc_column_text]Join us in person at the ICORPA Mosque EVERY FRIDAY between MAGHRIB and ISHA prayer for our Men’s study of the Quran & Arabic\, hosted by Elsayed Ashour.\nWe hope to see you there![/vc_column_text][/vc_column][/vc_row]
URL:https://icorpa.org/event/icorpa-mens-quranic-study-hosted-by-elsayed-ashour/
ATTACH;FMTTYPE=image/jpeg:https://icorpa.org/wp-content/uploads/2024/04/icorpa-quranfriday.jpg
END:VEVENT
BEGIN:VEVENT
DTSTART;TZID=America/Chicago:20240405T130000
DTEND;TZID=America/Chicago:20240405T140000
DTSTAMP:20260423T162043
CREATED:20240404T215435Z
LAST-MODIFIED:20240404T215435Z
UID:4359-1712322000-1712325600@icorpa.org
SUMMARY:Jumu’ah Khutbah: Friday 1:00 PM - All Year
DESCRIPTION:[vc_row][vc_column][vc_column_text]Join us every Friday at 1:00 PM EST in person or live on our Facebook page.\nSpeaker this week: Imam Elsayed Ashour​\nwww.facebook.com/icorpa.pa \nFacebook Live[/vc_column_text][/vc_column][/vc_row]
URL:https://icorpa.org/event/jumuah-khutbah-friday-100-pm-all-year/
END:VEVENT
BEGIN:VEVENT
DTSTART;TZID=America/Chicago:20240418T163000
DTEND;TZID=America/Chicago:20240418T163000
DTSTAMP:20260423T162043
CREATED:20240404T213609Z
LAST-MODIFIED:20240404T213609Z
UID:4345-1713457800-1713457800@icorpa.org
SUMMARY:Sunday School Schedule
DESCRIPTION:
URL:https://icorpa.org/event/sunday-school-schedule/
ATTACH;FMTTYPE=image/jpeg:https://icorpa.org/wp-content/uploads/2024/04/sunday-school_orig.jpg
END:VEVENT
BEGIN:VEVENT
DTSTART;TZID=America/Chicago:20240404T193000
DTEND;TZID=America/Chicago:20240404T204900
DTSTAMP:20260423T162043
CREATED:20240404T214700Z
LAST-MODIFIED:20240404T214700Z
UID:4351-1712259000-1712263740@icorpa.org
SUMMARY:ICORPA Men's Quranic Study\, hosted by Elsayed Ashour
DESCRIPTION:[vc_row][vc_column][vc_column_text]Join us in person at the ICORPA Mosque EVERY FRIDAY between MAGHRIB and ISHA prayer for our Men’s study of the Quran & Arabic\, hosted by Elsayed Ashour.\nWe hope to see you there![/vc_column_text][/vc_column][/vc_row]
URL:https://icorpa.org/event/icorpa-mens-quranic-study-hosted-by-elsayed-ashour/
ATTACH;FMTTYPE=image/jpeg:https://icorpa.org/wp-content/uploads/2024/04/icorpa-quranfriday.jpg
END:VEVENT
BEGIN:VEVENT
DTSTART;TZID=America/Chicago:20240405T130000
DTEND;TZID=America/Chicago:20240405T140000
DTSTAMP:20260423T162043
CREATED:20240404T215435Z
LAST-MODIFIED:20240404T215435Z
UID:4359-1712322000-1712325600@icorpa.org
SUMMARY:Jumu’ah Khutbah: Friday 1:00 PM - All Year
DESCRIPTION:[vc_row][vc_column][vc_column_text]Join us every Friday at 1:00 PM EST in person or live on our Facebook page.\nSpeaker this week: Imam Elsayed Ashour​\nwww.facebook.com/icorpa.pa \nFacebook Live[/vc_column_text][/vc_column][/vc_row]
URL:https://icorpa.org/event/jumuah-khutbah-friday-100-pm-all-year/
END:VEVENT
BEGIN:VEVENT
DTSTART;TZID=America/Chicago:20240404T193000
DTEND;TZID=America/Chicago:20240404T204900
DTSTAMP:20260423T162043
CREATED:20240404T214700Z
LAST-MODIFIED:20240404T214700Z
UID:4351-1712259000-1712263740@icorpa.org
SUMMARY:ICORPA Men's Quranic Study\, hosted by Elsayed Ashour
DESCRIPTION:[vc_row][vc_column][vc_column_text]Join us in person at the ICORPA Mosque EVERY FRIDAY between MAGHRIB and ISHA prayer for our Men’s study of the Quran & Arabic\, hosted by Elsayed Ashour.\nWe hope to see you there![/vc_column_text][/vc_column][/vc_row]
URL:https://icorpa.org/event/icorpa-mens-quranic-study-hosted-by-elsayed-ashour/
ATTACH;FMTTYPE=image/jpeg:https://icorpa.org/wp-content/uploads/2024/04/icorpa-quranfriday.jpg
END:VEVENT
BEGIN:VEVENT
DTSTART;TZID=America/Chicago:20240405T130000
DTEND;TZID=America/Chicago:20240405T140000
DTSTAMP:20260423T162043
CREATED:20240404T215435Z
LAST-MODIFIED:20240404T215435Z
UID:4359-1712322000-1712325600@icorpa.org
SUMMARY:Jumu’ah Khutbah: Friday 1:00 PM - All Year
DESCRIPTION:[vc_row][vc_column][vc_column_text]Join us every Friday at 1:00 PM EST in person or live on our Facebook page.\nSpeaker this week: Imam Elsayed Ashour​\nwww.facebook.com/icorpa.pa \nFacebook Live[/vc_column_text][/vc_column][/vc_row]
URL:https://icorpa.org/event/jumuah-khutbah-friday-100-pm-all-year/
END:VEVENT
BEGIN:VEVENT
DTSTART;TZID=America/Chicago:20240404T193000
DTEND;TZID=America/Chicago:20240404T204900
DTSTAMP:20260423T162043
CREATED:20240404T214700Z
LAST-MODIFIED:20240404T214700Z
UID:4351-1712259000-1712263740@icorpa.org
SUMMARY:ICORPA Men's Quranic Study\, hosted by Elsayed Ashour
DESCRIPTION:[vc_row][vc_column][vc_column_text]Join us in person at the ICORPA Mosque EVERY FRIDAY between MAGHRIB and ISHA prayer for our Men’s study of the Quran & Arabic\, hosted by Elsayed Ashour.\nWe hope to see you there![/vc_column_text][/vc_column][/vc_row]
URL:https://icorpa.org/event/icorpa-mens-quranic-study-hosted-by-elsayed-ashour/
ATTACH;FMTTYPE=image/jpeg:https://icorpa.org/wp-content/uploads/2024/04/icorpa-quranfriday.jpg
END:VEVENT
BEGIN:VEVENT
DTSTART;TZID=America/Chicago:20240405T130000
DTEND;TZID=America/Chicago:20240405T140000
DTSTAMP:20260423T162043
CREATED:20240404T215435Z
LAST-MODIFIED:20240404T215435Z
UID:4359-1712322000-1712325600@icorpa.org
SUMMARY:Jumu’ah Khutbah: Friday 1:00 PM - All Year
DESCRIPTION:[vc_row][vc_column][vc_column_text]Join us every Friday at 1:00 PM EST in person or live on our Facebook page.\nSpeaker this week: Imam Elsayed Ashour​\nwww.facebook.com/icorpa.pa \nFacebook Live[/vc_column_text][/vc_column][/vc_row]
URL:https://icorpa.org/event/jumuah-khutbah-friday-100-pm-all-year/
END:VEVENT
BEGIN:VEVENT
DTSTART;TZID=America/Chicago:20240404T193000
DTEND;TZID=America/Chicago:20240404T204900
DTSTAMP:20260423T162043
CREATED:20240404T214700Z
LAST-MODIFIED:20240404T214700Z
UID:4351-1712259000-1712263740@icorpa.org
SUMMARY:ICORPA Men's Quranic Study\, hosted by Elsayed Ashour
DESCRIPTION:[vc_row][vc_column][vc_column_text]Join us in person at the ICORPA Mosque EVERY FRIDAY between MAGHRIB and ISHA prayer for our Men’s study of the Quran & Arabic\, hosted by Elsayed Ashour.\nWe hope to see you there![/vc_column_text][/vc_column][/vc_row]
URL:https://icorpa.org/event/icorpa-mens-quranic-study-hosted-by-elsayed-ashour/
ATTACH;FMTTYPE=image/jpeg:https://icorpa.org/wp-content/uploads/2024/04/icorpa-quranfriday.jpg
END:VEVENT
BEGIN:VEVENT
DTSTART;TZID=America/Chicago:20240405T130000
DTEND;TZID=America/Chicago:20240405T140000
DTSTAMP:20260423T162043
CREATED:20240404T215435Z
LAST-MODIFIED:20240404T215435Z
UID:4359-1712322000-1712325600@icorpa.org
SUMMARY:Jumu’ah Khutbah: Friday 1:00 PM - All Year
DESCRIPTION:[vc_row][vc_column][vc_column_text]Join us every Friday at 1:00 PM EST in person or live on our Facebook page.\nSpeaker this week: Imam Elsayed Ashour​\nwww.facebook.com/icorpa.pa \nFacebook Live[/vc_column_text][/vc_column][/vc_row]
URL:https://icorpa.org/event/jumuah-khutbah-friday-100-pm-all-year/
END:VEVENT
BEGIN:VEVENT
DTSTART;TZID=America/Chicago:20240404T193000
DTEND;TZID=America/Chicago:20240404T204900
DTSTAMP:20260423T162043
CREATED:20240404T214700Z
LAST-MODIFIED:20240404T214700Z
UID:4351-1712259000-1712263740@icorpa.org
SUMMARY:ICORPA Men's Quranic Study\, hosted by Elsayed Ashour
DESCRIPTION:[vc_row][vc_column][vc_column_text]Join us in person at the ICORPA Mosque EVERY FRIDAY between MAGHRIB and ISHA prayer for our Men’s study of the Quran & Arabic\, hosted by Elsayed Ashour.\nWe hope to see you there![/vc_column_text][/vc_column][/vc_row]
URL:https://icorpa.org/event/icorpa-mens-quranic-study-hosted-by-elsayed-ashour/
ATTACH;FMTTYPE=image/jpeg:https://icorpa.org/wp-content/uploads/2024/04/icorpa-quranfriday.jpg
END:VEVENT
BEGIN:VEVENT
DTSTART;TZID=America/Chicago:20240405T130000
DTEND;TZID=America/Chicago:20240405T140000
DTSTAMP:20260423T162043
CREATED:20240404T215435Z
LAST-MODIFIED:20240404T215435Z
UID:4359-1712322000-1712325600@icorpa.org
SUMMARY:Jumu’ah Khutbah: Friday 1:00 PM - All Year
DESCRIPTION:[vc_row][vc_column][vc_column_text]Join us every Friday at 1:00 PM EST in person or live on our Facebook page.\nSpeaker this week: Imam Elsayed Ashour​\nwww.facebook.com/icorpa.pa \nFacebook Live[/vc_column_text][/vc_column][/vc_row]
URL:https://icorpa.org/event/jumuah-khutbah-friday-100-pm-all-year/
END:VEVENT
BEGIN:VEVENT
DTSTART;TZID=America/Chicago:20240404T193000
DTEND;TZID=America/Chicago:20240404T204900
DTSTAMP:20260423T162043
CREATED:20240404T214700Z
LAST-MODIFIED:20240404T214700Z
UID:4351-1712259000-1712263740@icorpa.org
SUMMARY:ICORPA Men's Quranic Study\, hosted by Elsayed Ashour
DESCRIPTION:[vc_row][vc_column][vc_column_text]Join us in person at the ICORPA Mosque EVERY FRIDAY between MAGHRIB and ISHA prayer for our Men’s study of the Quran & Arabic\, hosted by Elsayed Ashour.\nWe hope to see you there![/vc_column_text][/vc_column][/vc_row]
URL:https://icorpa.org/event/icorpa-mens-quranic-study-hosted-by-elsayed-ashour/
ATTACH;FMTTYPE=image/jpeg:https://icorpa.org/wp-content/uploads/2024/04/icorpa-quranfriday.jpg
END:VEVENT
BEGIN:VEVENT
DTSTART;TZID=America/Chicago:20240405T130000
DTEND;TZID=America/Chicago:20240405T140000
DTSTAMP:20260423T162043
CREATED:20240404T215435Z
LAST-MODIFIED:20240404T215435Z
UID:4359-1712322000-1712325600@icorpa.org
SUMMARY:Jumu’ah Khutbah: Friday 1:00 PM - All Year
DESCRIPTION:[vc_row][vc_column][vc_column_text]Join us every Friday at 1:00 PM EST in person or live on our Facebook page.\nSpeaker this week: Imam Elsayed Ashour​\nwww.facebook.com/icorpa.pa \nFacebook Live[/vc_column_text][/vc_column][/vc_row]
URL:https://icorpa.org/event/jumuah-khutbah-friday-100-pm-all-year/
END:VEVENT
BEGIN:VEVENT
DTSTART;TZID=America/Chicago:20240404T193000
DTEND;TZID=America/Chicago:20240404T204900
DTSTAMP:20260423T162043
CREATED:20240404T214700Z
LAST-MODIFIED:20240404T214700Z
UID:4351-1712259000-1712263740@icorpa.org
SUMMARY:ICORPA Men's Quranic Study\, hosted by Elsayed Ashour
DESCRIPTION:[vc_row][vc_column][vc_column_text]Join us in person at the ICORPA Mosque EVERY FRIDAY between MAGHRIB and ISHA prayer for our Men’s study of the Quran & Arabic\, hosted by Elsayed Ashour.\nWe hope to see you there![/vc_column_text][/vc_column][/vc_row]
URL:https://icorpa.org/event/icorpa-mens-quranic-study-hosted-by-elsayed-ashour/
ATTACH;FMTTYPE=image/jpeg:https://icorpa.org/wp-content/uploads/2024/04/icorpa-quranfriday.jpg
END:VEVENT
BEGIN:VEVENT
DTSTART;TZID=America/Chicago:20240405T130000
DTEND;TZID=America/Chicago:20240405T140000
DTSTAMP:20260423T162043
CREATED:20240404T215435Z
LAST-MODIFIED:20240404T215435Z
UID:4359-1712322000-1712325600@icorpa.org
SUMMARY:Jumu’ah Khutbah: Friday 1:00 PM - All Year
DESCRIPTION:[vc_row][vc_column][vc_column_text]Join us every Friday at 1:00 PM EST in person or live on our Facebook page.\nSpeaker this week: Imam Elsayed Ashour​\nwww.facebook.com/icorpa.pa \nFacebook Live[/vc_column_text][/vc_column][/vc_row]
URL:https://icorpa.org/event/jumuah-khutbah-friday-100-pm-all-year/
END:VEVENT
BEGIN:VEVENT
DTSTART;TZID=America/Chicago:20240404T193000
DTEND;TZID=America/Chicago:20240404T204900
DTSTAMP:20260423T162043
CREATED:20240404T214700Z
LAST-MODIFIED:20240404T214700Z
UID:4351-1712259000-1712263740@icorpa.org
SUMMARY:ICORPA Men's Quranic Study\, hosted by Elsayed Ashour
DESCRIPTION:[vc_row][vc_column][vc_column_text]Join us in person at the ICORPA Mosque EVERY FRIDAY between MAGHRIB and ISHA prayer for our Men’s study of the Quran & Arabic\, hosted by Elsayed Ashour.\nWe hope to see you there![/vc_column_text][/vc_column][/vc_row]
URL:https://icorpa.org/event/icorpa-mens-quranic-study-hosted-by-elsayed-ashour/
ATTACH;FMTTYPE=image/jpeg:https://icorpa.org/wp-content/uploads/2024/04/icorpa-quranfriday.jpg
END:VEVENT
BEGIN:VEVENT
DTSTART;TZID=America/Chicago:20240405T130000
DTEND;TZID=America/Chicago:20240405T140000
DTSTAMP:20260423T162043
CREATED:20240404T215435Z
LAST-MODIFIED:20240404T215435Z
UID:4359-1712322000-1712325600@icorpa.org
SUMMARY:Jumu’ah Khutbah: Friday 1:00 PM - All Year
DESCRIPTION:[vc_row][vc_column][vc_column_text]Join us every Friday at 1:00 PM EST in person or live on our Facebook page.\nSpeaker this week: Imam Elsayed Ashour​\nwww.facebook.com/icorpa.pa \nFacebook Live[/vc_column_text][/vc_column][/vc_row]
URL:https://icorpa.org/event/jumuah-khutbah-friday-100-pm-all-year/
END:VEVENT
BEGIN:VEVENT
DTSTART;TZID=America/Chicago:20240404T193000
DTEND;TZID=America/Chicago:20240404T204900
DTSTAMP:20260423T162043
CREATED:20240404T214700Z
LAST-MODIFIED:20240404T214700Z
UID:4351-1712259000-1712263740@icorpa.org
SUMMARY:ICORPA Men's Quranic Study\, hosted by Elsayed Ashour
DESCRIPTION:[vc_row][vc_column][vc_column_text]Join us in person at the ICORPA Mosque EVERY FRIDAY between MAGHRIB and ISHA prayer for our Men’s study of the Quran & Arabic\, hosted by Elsayed Ashour.\nWe hope to see you there![/vc_column_text][/vc_column][/vc_row]
URL:https://icorpa.org/event/icorpa-mens-quranic-study-hosted-by-elsayed-ashour/
ATTACH;FMTTYPE=image/jpeg:https://icorpa.org/wp-content/uploads/2024/04/icorpa-quranfriday.jpg
END:VEVENT
BEGIN:VEVENT
DTSTART;TZID=America/Chicago:20240405T130000
DTEND;TZID=America/Chicago:20240405T140000
DTSTAMP:20260423T162043
CREATED:20240404T215435Z
LAST-MODIFIED:20240404T215435Z
UID:4359-1712322000-1712325600@icorpa.org
SUMMARY:Jumu’ah Khutbah: Friday 1:00 PM - All Year
DESCRIPTION:[vc_row][vc_column][vc_column_text]Join us every Friday at 1:00 PM EST in person or live on our Facebook page.\nSpeaker this week: Imam Elsayed Ashour​\nwww.facebook.com/icorpa.pa \nFacebook Live[/vc_column_text][/vc_column][/vc_row]
URL:https://icorpa.org/event/jumuah-khutbah-friday-100-pm-all-year/
END:VEVENT
BEGIN:VEVENT
DTSTART;TZID=America/Chicago:20240404T193000
DTEND;TZID=America/Chicago:20240404T204900
DTSTAMP:20260423T162043
CREATED:20240404T214700Z
LAST-MODIFIED:20240404T214700Z
UID:4351-1712259000-1712263740@icorpa.org
SUMMARY:ICORPA Men's Quranic Study\, hosted by Elsayed Ashour
DESCRIPTION:[vc_row][vc_column][vc_column_text]Join us in person at the ICORPA Mosque EVERY FRIDAY between MAGHRIB and ISHA prayer for our Men’s study of the Quran & Arabic\, hosted by Elsayed Ashour.\nWe hope to see you there![/vc_column_text][/vc_column][/vc_row]
URL:https://icorpa.org/event/icorpa-mens-quranic-study-hosted-by-elsayed-ashour/
ATTACH;FMTTYPE=image/jpeg:https://icorpa.org/wp-content/uploads/2024/04/icorpa-quranfriday.jpg
END:VEVENT
BEGIN:VEVENT
DTSTART;TZID=America/Chicago:20240405T130000
DTEND;TZID=America/Chicago:20240405T140000
DTSTAMP:20260423T162043
CREATED:20240404T215435Z
LAST-MODIFIED:20240404T215435Z
UID:4359-1712322000-1712325600@icorpa.org
SUMMARY:Jumu’ah Khutbah: Friday 1:00 PM - All Year
DESCRIPTION:[vc_row][vc_column][vc_column_text]Join us every Friday at 1:00 PM EST in person or live on our Facebook page.\nSpeaker this week: Imam Elsayed Ashour​\nwww.facebook.com/icorpa.pa \nFacebook Live[/vc_column_text][/vc_column][/vc_row]
URL:https://icorpa.org/event/jumuah-khutbah-friday-100-pm-all-year/
END:VEVENT
BEGIN:VEVENT
DTSTART;TZID=America/Chicago:20240404T193000
DTEND;TZID=America/Chicago:20240404T204900
DTSTAMP:20260423T162043
CREATED:20240404T214700Z
LAST-MODIFIED:20240404T214700Z
UID:4351-1712259000-1712263740@icorpa.org
SUMMARY:ICORPA Men's Quranic Study\, hosted by Elsayed Ashour
DESCRIPTION:[vc_row][vc_column][vc_column_text]Join us in person at the ICORPA Mosque EVERY FRIDAY between MAGHRIB and ISHA prayer for our Men’s study of the Quran & Arabic\, hosted by Elsayed Ashour.\nWe hope to see you there![/vc_column_text][/vc_column][/vc_row]
URL:https://icorpa.org/event/icorpa-mens-quranic-study-hosted-by-elsayed-ashour/
ATTACH;FMTTYPE=image/jpeg:https://icorpa.org/wp-content/uploads/2024/04/icorpa-quranfriday.jpg
END:VEVENT
BEGIN:VEVENT
DTSTART;TZID=America/Chicago:20240405T130000
DTEND;TZID=America/Chicago:20240405T140000
DTSTAMP:20260423T162043
CREATED:20240404T215435Z
LAST-MODIFIED:20240404T215435Z
UID:4359-1712322000-1712325600@icorpa.org
SUMMARY:Jumu’ah Khutbah: Friday 1:00 PM - All Year
DESCRIPTION:[vc_row][vc_column][vc_column_text]Join us every Friday at 1:00 PM EST in person or live on our Facebook page.\nSpeaker this week: Imam Elsayed Ashour​\nwww.facebook.com/icorpa.pa \nFacebook Live[/vc_column_text][/vc_column][/vc_row]
URL:https://icorpa.org/event/jumuah-khutbah-friday-100-pm-all-year/
END:VEVENT
BEGIN:VEVENT
DTSTART;TZID=America/Chicago:20240404T193000
DTEND;TZID=America/Chicago:20240404T204900
DTSTAMP:20260423T162043
CREATED:20240404T214700Z
LAST-MODIFIED:20240404T214700Z
UID:4351-1712259000-1712263740@icorpa.org
SUMMARY:ICORPA Men's Quranic Study\, hosted by Elsayed Ashour
DESCRIPTION:[vc_row][vc_column][vc_column_text]Join us in person at the ICORPA Mosque EVERY FRIDAY between MAGHRIB and ISHA prayer for our Men’s study of the Quran & Arabic\, hosted by Elsayed Ashour.\nWe hope to see you there![/vc_column_text][/vc_column][/vc_row]
URL:https://icorpa.org/event/icorpa-mens-quranic-study-hosted-by-elsayed-ashour/
ATTACH;FMTTYPE=image/jpeg:https://icorpa.org/wp-content/uploads/2024/04/icorpa-quranfriday.jpg
END:VEVENT
BEGIN:VEVENT
DTSTART;TZID=America/Chicago:20240405T130000
DTEND;TZID=America/Chicago:20240405T140000
DTSTAMP:20260423T162043
CREATED:20240404T215435Z
LAST-MODIFIED:20240404T215435Z
UID:4359-1712322000-1712325600@icorpa.org
SUMMARY:Jumu’ah Khutbah: Friday 1:00 PM - All Year
DESCRIPTION:[vc_row][vc_column][vc_column_text]Join us every Friday at 1:00 PM EST in person or live on our Facebook page.\nSpeaker this week: Imam Elsayed Ashour​\nwww.facebook.com/icorpa.pa \nFacebook Live[/vc_column_text][/vc_column][/vc_row]
URL:https://icorpa.org/event/jumuah-khutbah-friday-100-pm-all-year/
END:VEVENT
END:VCALENDAR